BEGIN:VCALENDAR
VERSION:2.0
PRODID:-//Northeast Oregon Economic Development District - ECPv6.15.20//NONSGML v1.0//EN
CALSCALE:GREGORIAN
METHOD:PUBLISH
X-WR-CALNAME:Northeast Oregon Economic Development District
X-ORIGINAL-URL:https://neoedd.org
X-WR-CALDESC:Events for Northeast Oregon Economic Development District
REFRESH-INTERVAL;VALUE=DURATION:PT1H
X-Robots-Tag:noindex
X-PUBLISHED-TTL:PT1H
BEGIN:VTIMEZONE
TZID:America/Los_Angeles
BEGIN:DAYLIGHT
TZOFFSETFROM:-0800
TZOFFSETTO:-0700
TZNAME:PDT
DTSTART:20230312T100000
END:DAYLIGHT
BEGIN:STANDARD
TZOFFSETFROM:-0700
TZOFFSETTO:-0800
TZNAME:PST
DTSTART:20231105T090000
END:STANDARD
BEGIN:DAYLIGHT
TZOFFSETFROM:-0800
TZOFFSETTO:-0700
TZNAME:PDT
DTSTART:20240310T100000
END:DAYLIGHT
BEGIN:STANDARD
TZOFFSETFROM:-0700
TZOFFSETTO:-0800
TZNAME:PST
DTSTART:20241103T090000
END:STANDARD
BEGIN:DAYLIGHT
TZOFFSETFROM:-0800
TZOFFSETTO:-0700
TZNAME:PDT
DTSTART:20250309T100000
END:DAYLIGHT
BEGIN:STANDARD
TZOFFSETFROM:-0700
TZOFFSETTO:-0800
TZNAME:PST
DTSTART:20251102T090000
END:STANDARD
END:VTIMEZONE
BEGIN:VEVENT
DTSTART;TZID=America/Los_Angeles:20240416T180000
DTEND;TZID=America/Los_Angeles:20240416T210000
DTSTAMP:20260421T065744
CREATED:20240112T205002Z
LAST-MODIFIED:20240112T205002Z
UID:448-1713290400-1713301200@neoedd.org
SUMMARY:Financial Projections for Your Business - Baker City
DESCRIPTION:Learn how to develop a cash flow projection for your business based on the number of units of products or services that you sell on a monthly basis. In order to get the most out of this workshop\, please identify a typical sale (or unit) for your business\, the price you sell it for and what it cost you to deliver that product or service. We’ll use this information to build a cash flow projection for your business. A unit might consist of the average sale at a retail shop\, an hour of time if you are a contractor or service provider\, a typical sale at a restaurant such as a meal and beverage for two people. If you’d like help identifying your unit prior to class\, ask us for help! \nRegistration required.
URL:https://neoedd.org/event/financial-projections-for-your-business-baker-city/
LOCATION:Launch Pad Baker City\, 2019 Main Street Suite A\, Baker City\, Oregon\, 97814
ORGANIZER;CN="NEOEDD":MAILTO:lisadawson@neoedd.org
END:VEVENT
END:VCALENDAR