BEGIN:VCALENDAR
VERSION:2.0
PRODID:-//Northeast Oregon Economic Development District - ECPv6.15.20//NONSGML v1.0//EN
CALSCALE:GREGORIAN
METHOD:PUBLISH
X-ORIGINAL-URL:https://neoedd.org
X-WR-CALDESC:Events for Northeast Oregon Economic Development District
REFRESH-INTERVAL;VALUE=DURATION:PT1H
X-Robots-Tag:noindex
X-PUBLISHED-TTL:PT1H
BEGIN:VTIMEZONE
TZID:America/Los_Angeles
BEGIN:DAYLIGHT
TZOFFSETFROM:-0800
TZOFFSETTO:-0700
TZNAME:PDT
DTSTART:20240310T100000
END:DAYLIGHT
BEGIN:STANDARD
TZOFFSETFROM:-0700
TZOFFSETTO:-0800
TZNAME:PST
DTSTART:20241103T090000
END:STANDARD
BEGIN:DAYLIGHT
TZOFFSETFROM:-0800
TZOFFSETTO:-0700
TZNAME:PDT
DTSTART:20250309T100000
END:DAYLIGHT
BEGIN:STANDARD
TZOFFSETFROM:-0700
TZOFFSETTO:-0800
TZNAME:PST
DTSTART:20251102T090000
END:STANDARD
BEGIN:DAYLIGHT
TZOFFSETFROM:-0800
TZOFFSETTO:-0700
TZNAME:PDT
DTSTART:20260308T100000
END:DAYLIGHT
BEGIN:STANDARD
TZOFFSETFROM:-0700
TZOFFSETTO:-0800
TZNAME:PST
DTSTART:20261101T090000
END:STANDARD
END:VTIMEZONE
BEGIN:VEVENT
DTSTART;TZID=America/Los_Angeles:20250304T180000
DTEND;TZID=America/Los_Angeles:20250304T210000
DTSTAMP:20260425T133706
CREATED:20250127T171750Z
LAST-MODIFIED:20250127T171750Z
UID:1091-1741111200-1741122000@neoedd.org
SUMMARY:CO.STARTERS CORE Workshop Series - Enterprise - Session 2 Spring 2025
DESCRIPTION:Launch your small business idea or refine your current business model through this no-cost 10-week program. \nCO.STARTERS CORE walks entrepreneurs through 10 foundational topics in a cohort with other “starters” – entrepreneurs\, business owners or potential business owners – who are learning together and helping each other make improvements to their business model. \nEach week we’ll focus on a different topic. This week we’ll focus on Understanding your customers \nPinpoint what your customer wants and how to adapt to their needs. \nhe workshop series. If you have questions\, contact lisadawson@noeedd.org.
URL:https://neoedd.org/event/co-starters-core-workshop-series-enterprise-session-2-spring-2025/
LOCATION:Building Healthy Families\, 207 East Park Street\, Enterprise\, OR\, 97828\, United States
END:VEVENT
END:VCALENDAR