BEGIN:VCALENDAR
VERSION:2.0
PRODID:-//Northeast Oregon Economic Development District - ECPv6.15.20//NONSGML v1.0//EN
CALSCALE:GREGORIAN
METHOD:PUBLISH
X-WR-CALNAME:Northeast Oregon Economic Development District
X-ORIGINAL-URL:https://neoedd.org
X-WR-CALDESC:Events for Northeast Oregon Economic Development District
REFRESH-INTERVAL;VALUE=DURATION:PT1H
X-Robots-Tag:noindex
X-PUBLISHED-TTL:PT1H
BEGIN:VTIMEZONE
TZID:America/Los_Angeles
BEGIN:DAYLIGHT
TZOFFSETFROM:-0800
TZOFFSETTO:-0700
TZNAME:PDT
DTSTART:20250309T100000
END:DAYLIGHT
BEGIN:STANDARD
TZOFFSETFROM:-0700
TZOFFSETTO:-0800
TZNAME:PST
DTSTART:20251102T090000
END:STANDARD
BEGIN:DAYLIGHT
TZOFFSETFROM:-0800
TZOFFSETTO:-0700
TZNAME:PDT
DTSTART:20260308T100000
END:DAYLIGHT
BEGIN:STANDARD
TZOFFSETFROM:-0700
TZOFFSETTO:-0800
TZNAME:PST
DTSTART:20261101T090000
END:STANDARD
BEGIN:DAYLIGHT
TZOFFSETFROM:-0800
TZOFFSETTO:-0700
TZNAME:PDT
DTSTART:20270314T100000
END:DAYLIGHT
BEGIN:STANDARD
TZOFFSETFROM:-0700
TZOFFSETTO:-0800
TZNAME:PST
DTSTART:20271107T090000
END:STANDARD
END:VTIMEZONE
BEGIN:VEVENT
DTSTART;TZID=America/Los_Angeles:20260217T090000
DTEND;TZID=America/Los_Angeles:20260217T180000
DTSTAMP:20260421T014816
CREATED:20250115T214808Z
LAST-MODIFIED:20260213T175738Z
UID:1037-1771318800-1771351200@neoedd.org
SUMMARY:Small Business Success Day (La Grande)
DESCRIPTION:Small Business Success Day (La Grande): Get Your Business Ready for Success in 2026!\nFeb 17\, 2026\, 9 AM-5 PM | Cook Memorial Library\, 2006 Fourth St\, La Grande\, OR 97850\nGet help starting and growing your business by attending this FREE (RSVP required) event. Learn about strategies to improve profits\, funding opportunities with 0% interest KIVA loans\, exit/succession strategies\, and other business development resources. Feel free to attend any or all of the sessions. Throughout the event\, business advisors will be available for one-on-one support. Refreshments will be provided or bring your own. \nFree online registration form is a the bottom of the page. \nEvent Schedule: CLICK HERE \nPresenter Bios: CLICK HERE \n  \nThis event is brought to you by NEOEDD\, Oregon Frontier Innovation Hub\, La Grande Economic Development\, Reinventing Rural\, Foundry Collective\, BMCC Small Buisness Development Center\, US Bank\, Columbia Bank\, and Business Oregon. \n                  \nNote: This registration page is for the Small Business Success Day located in La Grande\, OR on Feb 17. To attend the Small Business Success Day event in Enterprise or Baker City: \n\nEnterprise\, OR on Wednesday\, February 18 follow this link: https://neoedd.org/event/sbsd-enterprise/\nBaker City\, OR on Thursday\, February 19 follow this link: https://neoedd.org/event/sbsd-bakercity/
URL:https://neoedd.org/event/sbsd-lagrande/
LOCATION:Cook Memorial Library\, 2006 4th Street\, La Grande\, Oregon\, 97850\, United States
ORGANIZER;CN="NEOEDD":MAILTO:lisadawson@neoedd.org
END:VEVENT
END:VCALENDAR