BEGIN:VCALENDAR
VERSION:2.0
PRODID:-//Northeast Oregon Economic Development District - ECPv6.15.20//NONSGML v1.0//EN
CALSCALE:GREGORIAN
METHOD:PUBLISH
X-WR-CALNAME:Northeast Oregon Economic Development District
X-ORIGINAL-URL:https://neoedd.org
X-WR-CALDESC:Events for Northeast Oregon Economic Development District
REFRESH-INTERVAL;VALUE=DURATION:PT1H
X-Robots-Tag:noindex
X-PUBLISHED-TTL:PT1H
BEGIN:VTIMEZONE
TZID:America/Los_Angeles
BEGIN:DAYLIGHT
TZOFFSETFROM:-0800
TZOFFSETTO:-0700
TZNAME:PDT
DTSTART:20240310T100000
END:DAYLIGHT
BEGIN:STANDARD
TZOFFSETFROM:-0700
TZOFFSETTO:-0800
TZNAME:PST
DTSTART:20241103T090000
END:STANDARD
BEGIN:DAYLIGHT
TZOFFSETFROM:-0800
TZOFFSETTO:-0700
TZNAME:PDT
DTSTART:20250309T100000
END:DAYLIGHT
BEGIN:STANDARD
TZOFFSETFROM:-0700
TZOFFSETTO:-0800
TZNAME:PST
DTSTART:20251102T090000
END:STANDARD
BEGIN:DAYLIGHT
TZOFFSETFROM:-0800
TZOFFSETTO:-0700
TZNAME:PDT
DTSTART:20260308T100000
END:DAYLIGHT
BEGIN:STANDARD
TZOFFSETFROM:-0700
TZOFFSETTO:-0800
TZNAME:PST
DTSTART:20261101T090000
END:STANDARD
END:VTIMEZONE
BEGIN:VEVENT
DTSTART;TZID=America/Los_Angeles:20250514T060000
DTEND;TZID=America/Los_Angeles:20250613T170000
DTSTAMP:20260425T200812
CREATED:20250515T001705Z
LAST-MODIFIED:20250515T014825Z
UID:1353-1747202400-1749834000@neoedd.org
SUMMARY:Request for Qualification: Shared Grant Writer
DESCRIPTION:Request for Qualification: Shared Grant Writer \nNortheast Oregon Economic Development District (NEOEDD) is seeking one or more contractors to serve as a Shared Grant Writer to extend NEOEDD’s capacity to help communities secure funding for community infrastructure. The Shared Grant Writer will work with NEOEDD staff to provide grant writing services and research the resource needs and opportunities as requested for local governments and other stakeholder organizations in Northeast Oregon. \nFollow the link to review the RFQ: https://neoedd.org/wp-content/uploads/2025/05/Shared-Grant-Writer-RFQ.pdf \nResponses must be submitted by email to NEOEDD by June 13\, 2025 at 5:00 p.m.\nQuestions? Contact: Chantal Ivenso\, chantalivenso@neoedd.org
URL:https://neoedd.org/event/rfq-shared-grant-writer/
LOCATION:OR
ORGANIZER;CN="NEOEDD":MAILTO:lisadawson@neoedd.org
END:VEVENT
BEGIN:VEVENT
DTSTART;TZID=America/Los_Angeles:20250613T110000
DTEND;TZID=America/Los_Angeles:20250613T120000
DTSTAMP:20260425T200812
CREATED:20250609T235451Z
LAST-MODIFIED:20250609T235451Z
UID:1366-1749812400-1749816000@neoedd.org
SUMMARY:NEOEDD Budget Committee Meeting
DESCRIPTION:NEOEDD’s Budget Committee will review the proposed 2025-2026 annual budget at this meeting. The meeting will be held via zoom.
URL:https://neoedd.org/event/neoedd-budget-committee-meeting/
LOCATION:OR
END:VEVENT
BEGIN:VEVENT
DTSTART;TZID=America/Los_Angeles:20250630T133000
DTEND;TZID=America/Los_Angeles:20250630T160000
DTSTAMP:20260425T200812
CREATED:20250507T195908Z
LAST-MODIFIED:20250507T195959Z
UID:1342-1751290200-1751299200@neoedd.org
SUMMARY:NEOEDD Board Meeting April 30
DESCRIPTION:NEOEDD’s quarterly board meeting will be held Monday\, June 30\, 2025 in the Commissioner’s Conference Room\, 1995 3rd Street\, Baker City at 1:30 p.m. A Budget Hearing and regular business will be conducted. The meeting is open to the public and individuals may attend via zoom. \nConnect to the meeting at: \nhttps://us02web.zoom.us/j/82832533575?pwd=rAdVxLjNyuAb69yuO7M7SX3fOaMb5t.1 \nMeeting ID: 828 3253 3575\nPasscode: 390934 \n253-215-8782 \n 
URL:https://neoedd.org/event/neoedd-board-meeting-april-30/
LOCATION:Baker County Courthouse\, 1995 3rd Street\, Baker City\, OR\, United States
ATTACH;FMTTYPE=image/png:https://neoedd.org/wp-content/uploads/2024/08/NEOEDD-Board-Meeting-340-x-200-px.png
ORGANIZER;CN="NEOEDD":MAILTO:lisadawson@neoedd.org
END:VEVENT
END:VCALENDAR